BEGIN:VCALENDAR
PRODID:-//AT Content Types//AT Event//EN
VERSION:2.0
METHOD:PUBLISH
BEGIN:VEVENT
DTSTAMP:20260424T134901Z
CREATED:20230113T110917Z
UID:ATEvent-6b38caa314384ae4a039a13633711eb6
LAST-MODIFIED:20230113T152935Z
SUMMARY:Eynsford Public Consultation Event
DTSTART:20230204T120000Z
DTEND:20230204T140000Z
DESCRIPTION:This is an opportunity to learn more about the updated dra
 ft appraisal\, ask questions and talk with our Conservation Team and c
 onsultants.
CLASS:PUBLIC
END:VEVENT
END:VCALENDAR
