BEGIN:VCALENDAR
PRODID:-//AT Content Types//AT Event//EN
VERSION:2.0
METHOD:PUBLISH
BEGIN:VEVENT
DTSTAMP:20260424T121801Z
CREATED:20220331T083345Z
UID:ATEvent-322d38bf868040fb82c1491768f3c9f8
LAST-MODIFIED:20230116T123411Z
SUMMARY:Farmstead Drive Consultation
DTSTART:20220409T090000Z
DTEND:20220409T130000Z
DESCRIPTION:Please join us at the FTRA Hall to come and view and discu
 ss our early ideas with the Project Team. We're keen to hear your thou
 ghts and views about the existing site and future proposals
CLASS:PUBLIC
END:VEVENT
END:VCALENDAR
