BEGIN:VCALENDAR
PRODID:-//AT Content Types//AT Event//EN
VERSION:2.0
METHOD:PUBLISH
BEGIN:VEVENT
DTSTAMP:20260424T122059Z
CREATED:20220331T083345Z
UID:ATEvent-ff546e0dd08d49b29ea76cdbc5bece24
LAST-MODIFIED:20230116T123411Z
SUMMARY:Farmstead Drive Consultation
DTSTART:20220406T150000Z
DTEND:20220406T190000Z
DESCRIPTION:Please join us at the FTRA Hall to come and view and discu
 ss our early ideas with the Project Team. We're keen to hear your thou
 ghts and views about the existing site and future proposals
CLASS:PUBLIC
END:VEVENT
END:VCALENDAR
