BEGIN:VCALENDAR
PRODID:-//AT Content Types//AT Event//EN
VERSION:2.0
METHOD:PUBLISH
BEGIN:VEVENT
DTSTAMP:20260421T081523Z
CREATED:20220223T093705Z
UID:ATEvent-e3bf63a5aac64650ba09519a49837090
LAST-MODIFIED:20220324T113327Z
SUMMARY:Air Quality Action Plan - Virtual Drop In Session for Businesses
DTSTART:20220311T100000Z
DTEND:20220311T110000Z
DESCRIPTION:Drop In Session for Businesses\n\nJoin Zoom Meeting \nhttp
 s://us02web.zoom.us/j/89168899627
CLASS:PUBLIC
END:VEVENT
END:VCALENDAR
